BEGIN:VCALENDAR
VERSION:2.0
PRODID:-//AudioTheme 3.0.0
BEGIN:VEVENT
UID:http://ovmpbjo.cluster028.hosting.ovh.net/?post_type=audiotheme_gig&#038;p=1368
URL:https://www.melodieruvio.com/shows/trionfi-sacri/
DTSTART;TZID=GMT:20210714T190000
SUMMARY:Trionfi Sacri
DESCRIPTION:Programme "Trionfi Sacri" à un par voix autour de la musique de Giovanni Gabrieli avec l'ensemble La Guilde des Mercenaires. Dir : Adrien Mabire.
LOCATION:Eglise de Redon\, Redon\, 
END:VEVENT
END:VCALENDAR
