BEGIN:VCALENDAR
VERSION:2.0
PRODID:-//AudioTheme 3.0.0
BEGIN:VEVENT
UID:http://ovmpbjo.cluster028.hosting.ovh.net/?post_type=audiotheme_gig&#038;p=905
URL:https://www.melodieruvio.com/shows/siegfried-2/
DTSTART;TZID=GMT:20200603T180000
SUMMARY:Siegfried
DESCRIPTION:Troisième fille du Rhin dans « Siegfried\, nocturne » de Michael Jarrel avec les Solistes de l’Orchestre National des Pays de la Loire. Dir : Pascal Rophé. M.e.s : Olivier Py.
LOCATION:Opéra de Nantes\, Nantes\, \, France
END:VEVENT
END:VCALENDAR
