BEGIN:VCALENDAR
VERSION:2.0
PRODID:-//AudioTheme 3.0.0
BEGIN:VEVENT
UID:http://ovmpbjo.cluster028.hosting.ovh.net/?post_type=audiotheme_gig&#038;p=383
URL:https://www.melodieruvio.com/shows/role-de-la-cuisiniere-dans-wonderful-deluxe-de-brice-pausey-dir-brice-pausey-mes-stephane-ghislain-roussel/
DTSTART;TZID=GMT:20160510T180000
SUMMARY:Wonderful Deluxe de Brice Pausey.
DESCRIPTION:Rôle de la Cuisinière dans Wonderful Deluxe de Brice Pausey. Dir : Brice Pausey. Mes : Stéphane Ghislain Roussel.
LOCATION:Grand Théâtre du Luxembourg\, Luxembourg\, \, Luxembourg
END:VEVENT
END:VCALENDAR
