BEGIN:VCALENDAR
VERSION:2.0
PRODID:-//AudioTheme 3.0.0
BEGIN:VEVENT
UID:http://ovmpbjo.cluster028.hosting.ovh.net/?post_type=audiotheme_gig&#038;p=893
URL:https://www.melodieruvio.com/shows/requiem-de-mozart/
DTSTART;TZID=GMT:20200402T173000
SUMMARY:Requiem de Mozart
DESCRIPTION:Alto solo du Requiem de Mozart avec le Trondheim Symfoniorkester. Dir : Paul Agnew.
LOCATION:Olavshallen de Trondheim\, Trondheim (Norvège)\, \, Norvège 
END:VEVENT
END:VCALENDAR
