BEGIN:VCALENDAR
VERSION:2.0
PRODID:-//AudioTheme 3.0.0
BEGIN:VEVENT
UID:http://v2.melodieruvio.com/?post_type=audiotheme_gig&#038;p=57
URL:https://www.melodieruvio.com/shows/passion-selon-saint-jean-ensemble-aedes/
DTSTART;TZID=GMT:20160323T190000
SUMMARY:Passion selon Saint-Jean - Ensemble Aedes
DESCRIPTION:Alto solo de la Passion selon Saint Jean de Bach à l'Opéra de Massy.  Dir : Mathieu Romano.  
LOCATION:Opéra de Massy\, 1 Place de France\, Massy\, \, France\, 91300
END:VEVENT
END:VCALENDAR
