BEGIN:VCALENDAR
VERSION:2.0
PRODID:-//AudioTheme 3.0.0
BEGIN:VEVENT
UID:http://v2.melodieruvio.com/?post_type=audiotheme_gig&#038;p=59
URL:https://www.melodieruvio.com/shows/passion-selon-saint-jean-ensemble-aedes-3/
DTSTART;TZID=GMT:20160325T200000
SUMMARY:Passion selon Saint-Jean - Ensemble Aedes
DESCRIPTION:Alto solo de la Passion selon Saint Jean de Bach au Theâtre Jean Vilar de Suresnes.  Dir : Mathieu Romano.  
LOCATION:Théâtre de Suresnes Jean Vilar\, 16 Place Stalingrad\, Suresnes\, \, France\, 92150
END:VEVENT
END:VCALENDAR
