BEGIN:VCALENDAR
VERSION:2.0
PRODID:-//AudioTheme 3.0.0
BEGIN:VEVENT
UID:http://v2.melodieruvio.com/?post_type=audiotheme_gig&#038;p=58
URL:https://www.melodieruvio.com/shows/passion-selon-saint-jean-ensemble-aedes-2/
DTSTART;TZID=GMT:20160324T194500
SUMMARY:Passion selon Saint-Jean - Ensemble Aedes
DESCRIPTION:Alto solo de la Passion selon Saint Jean de Bach au Theâtre Impérial de Compiègne.  Dir : Mathieu Romano.  
LOCATION:Théâtre Impérial de Compiègne\, 3 Rue Othenin\, Compiègne\, \, France\, 60200
END:VEVENT
END:VCALENDAR
