BEGIN:VCALENDAR
VERSION:2.0
PRODID:-//AudioTheme 3.0.0
BEGIN:VEVENT
UID:http://ovmpbjo.cluster028.hosting.ovh.net/?post_type=audiotheme_gig&#038;p=401
URL:https://www.melodieruvio.com/shows/passion-selon-saint-jean-de-bach/
DTSTART;TZID=GMT:20160527T183000
SUMMARY:Passion selon Saint-Jean de Bach
DESCRIPTION:Alto solo de la Passion selon Saint-Jean de Bach avec l'Ensemble Les Surprises et l'Ensemble Aedes. Dir : Mathieu Romano.
LOCATION:Abbaye de l'Epau\, Rue de l'Estérel\, Le Mans\, \, France\, 72100
END:VEVENT
END:VCALENDAR
