BEGIN:VCALENDAR
VERSION:2.0
PRODID:-//AudioTheme 3.0.0
BEGIN:VEVENT
UID:http://ovmpbjo.cluster028.hosting.ovh.net/?post_type=audiotheme_gig&#038;p=393
URL:https://www.melodieruvio.com/shows/nisi-dominus-de-vivaldi/
DTSTART;TZID=GMT:20160529T150000
SUMMARY:Nisi Dominus de Vivaldi
DESCRIPTION:Alto du Nisi Dominus de Vivaldi avec La Camerata Vocale.
LOCATION:Festival Jean de la Fontaine - Eglise Saint Crépin\, 1 rue de la Madeleine\, Château-Thierry\, \, France\, 02400
END:VEVENT
END:VCALENDAR
