BEGIN:VCALENDAR
VERSION:2.0
PRODID:-//AudioTheme 3.0.0
BEGIN:VEVENT
UID:http://ovmpbjo.cluster028.hosting.ovh.net/?post_type=audiotheme_gig&#038;p=899
URL:https://www.melodieruvio.com/shows/monteverdi-jupiter-2/
DTSTART;TZID=GMT:20200412T140000
SUMMARY:Monteverdi Jupiter
DESCRIPTION:Contralto du programme « Il Combattimento di Tancredi e Clorinda » avec l’Ensemble Jupiter. Dir : Thomas Dunford.
LOCATION:Weimar Stadtkirche St Peter und Paul (Allemagne)\, Thuringe\, \, Allemagne
END:VEVENT
END:VCALENDAR
