BEGIN:VCALENDAR
VERSION:2.0
PRODID:-//AudioTheme 3.0.0
BEGIN:VEVENT
UID:https://www.melodieruvio.com/?post_type=audiotheme_gig&#038;p=1686
URL:https://www.melodieruvio.com/shows/gesualdo-monteverdi/
DTSTART;TZID=GMT:20250220T193000
SUMMARY:Gesualdo/Monteverdi
DESCRIPTION:Programme Monteverdi/Gesualdo à un par voix avec Les Arts Florissants. Dir : Paul Agnew.
LOCATION:Le Moulin du Roc\, Niort\, \, France
END:VEVENT
END:VCALENDAR
