BEGIN:VCALENDAR
VERSION:2.0
PRODID:-//AudioTheme 3.0.0
BEGIN:VEVENT
UID:http://ovmpbjo.cluster028.hosting.ovh.net/?post_type=audiotheme_gig&#038;p=1303
URL:https://www.melodieruvio.com/shows/gesualdo-6-3/
DTSTART;TZID=GMT:20210215T200000
SUMMARY:Gesualdo 6
DESCRIPTION:Sixième Livre des madrigaux de Gesualdo à un par voix avec Les Arts Florissants. Dir : Paul Agnew.
LOCATION:Teatro della Pergola\, Florence\, \, Italie
END:VEVENT
END:VCALENDAR
