BEGIN:VCALENDAR
VERSION:2.0
PRODID:-//AudioTheme 3.0.0
BEGIN:VEVENT
UID:https://www.melodieruvio.com/?post_type=audiotheme_gig&#038;p=1691
URL:https://www.melodieruvio.com/shows/cantate-bach-2/
DTSTART;TZID=GMT:20250223T160000
SUMMARY:Cantate Bach
DESCRIPTION:Alto solo de la Cantate BWV 35 de JS Bach avec l’ensemble EvolutiO. Dir : Julien Laloux.
LOCATION:Temple de Lutry\, Lutry (Suisse)\, \, Suisse\, 1095
END:VEVENT
END:VCALENDAR
